BEGIN:VCALENDAR
VERSION:2.0
CALSCALE:GREGORIAN
METHOD:PUBLISH
X-WR-TIMEZONE:Australia/Sydney
BEGIN:VTIMEZONE
TZID:Australia/Sydney
BEGIN:STANDARD
TZNAME:AEST
END:STANDARD
END:VTIMEZONE
BEGIN:VEVENT
DTSTART;TZID=Australia/Sydney:20180307T090000
DTEND;TZID=Australia/Sydney:20180307T104500
DTSTAMP:20260425T014943
UID:427
SUMMARY:Grade 2 Incursion
DESCRIPTION:Happy to be me
&amp;nbsp;
Session 1: 9:00 - 9:45am (2HL &amp;amp; 2EP &amp;amp; 2AP)
Session 2: 10:00 -10:45am (2EM &amp;amp; 2DV &amp;amp; 2RH)
SEQUENCE:0
STATUS:CONFIRMED
TRANSP:OPAQUE
END:VEVENT
END:VCALENDAR