BEGIN:VCALENDAR
VERSION:2.0
CALSCALE:GREGORIAN
METHOD:PUBLISH
X-WR-TIMEZONE:Australia/Sydney
BEGIN:VTIMEZONE
TZID:Australia/Sydney
BEGIN:STANDARD
TZNAME:AEST
END:STANDARD
END:VTIMEZONE
BEGIN:VEVENT
DTSTART;TZID=Australia/Sydney:20180220T105000
DTEND;TZID=Australia/Sydney:20180220T144000
DTSTAMP:20260425T020701
UID:426
SUMMARY:Grade 5 Incursion
DESCRIPTION:&#039;ToonSchool&#039; with Jeff &#039;Joffa&#039; Taylor

Session 1: &amp;nbsp;10.20am &amp;ndash; 11.50am (5KP, 5SL, 5RB)
Session 2: &amp;nbsp;1.10pm&amp;nbsp; &amp;nbsp;&amp;ndash; 2.40pm (5HT, 5SK, 5CM)
SEQUENCE:0
STATUS:CONFIRMED
TRANSP:OPAQUE
END:VEVENT
END:VCALENDAR