BEGIN:VCALENDAR
VERSION:2.0
CALSCALE:GREGORIAN
METHOD:PUBLISH
X-WR-TIMEZONE:Australia/Sydney
BEGIN:VTIMEZONE
TZID:Australia/Sydney
BEGIN:STANDARD
TZNAME:AEST
END:STANDARD
END:VTIMEZONE
BEGIN:VEVENT
DTSTART;TZID=Australia/Sydney:20180201T085000
DTEND;TZID=Australia/Sydney:20180201T151000
DTSTAMP:20260425T014943
UID:420
SUMMARY:Preps will commence their 1st day of school on either the 1st or 2nd of February 
DESCRIPTION:Dear Parents and Guardians, Please refer to your information&amp;nbsp;booklet for your child&#039;s commencement date.
SEQUENCE:0
STATUS:CONFIRMED
TRANSP:OPAQUE
END:VEVENT
END:VCALENDAR